BEGIN:VCALENDAR
VERSION:2.0
PRODID:-//eventon.com NONSGML v1.0//EN
CALSCALE:GREGORIAN
METHOD:PUBLISH
BEGIN:VEVENT
UID:69e74eadecf4e
DTSTAMP:20260421T101717Z
DTSTART:20221219T180000Z
DTEND:20221219T190000Z
LOCATION:
SUMMARY:Lebendiger Adventskalender
DESCRIPTION:in unserem Schrebergarten\nhttps://dpsg-do-mitte.de/events/lebe
 ndiger-adventskalender/
URL:https://dpsg-do-mitte.de/events/lebendiger-adventskalender/
END:VEVENT
END:VCALENDAR