BEGIN:VCALENDAR
VERSION:2.0
PRODID:-//eventon.com NONSGML v1.0//EN
CALSCALE:GREGORIAN
METHOD:PUBLISH
BEGIN:VEVENT
UID:69e5fa7631c23
DTSTAMP:20260420T100542Z
DTSTART:20230218T190000Z
DTEND:20230218T220000Z
LOCATION:
SUMMARY:Gemeindekarneval
DESCRIPTION:Gemeindekarneval\nhttps://dpsg-do-mitte.de/events/gemeindekarne
 val/
URL:https://dpsg-do-mitte.de/events/gemeindekarneval/
END:VEVENT
END:VCALENDAR