BEGIN:VCALENDAR
VERSION:2.0
PRODID:-//eventon.com NONSGML v1.0//EN
CALSCALE:GREGORIAN
METHOD:PUBLISH
BEGIN:VEVENT
UID:69e4e40d35f1b
DTSTAMP:20260419T141749Z
DTSTART:20230415T100000Z
DTEND:20230416T140000Z
LOCATION:
SUMMARY:Schrebergarten-Arbeitswochenende
DESCRIPTION:genaue Zeiten werden noch bekannt gegeben geplante Aufgaben: Te
 rrasse legen Eingeangsweg legen\nhttps://dpsg-do-mitte.de/events/schreberga
 rten-arbeitswochenende-3/
URL:https://dpsg-do-mitte.de/events/schrebergarten-arbeitswochenende-3/
END:VEVENT
END:VCALENDAR