BEGIN:VCALENDAR
VERSION:2.0
PRODID:-//eventon.com NONSGML v1.0//EN
CALSCALE:GREGORIAN
METHOD:PUBLISH
BEGIN:VEVENT
UID:69e5fb39c66cc
DTSTAMP:20260420T100857Z
DTSTART:20230901T160000Z
DTEND:20230903T150000Z
LOCATION:
SUMMARY:Tentakel
DESCRIPTION:Tentakel\nhttps://dpsg-do-mitte.de/events/tentakel/
URL:https://dpsg-do-mitte.de/events/tentakel/
END:VEVENT
END:VCALENDAR