BEGIN:VCALENDAR
VERSION:2.0
PRODID:-//eventon.com NONSGML v1.0//EN
CALSCALE:GREGORIAN
METHOD:PUBLISH
BEGIN:VEVENT
UID:69e5fcbed1b41
DTSTAMP:20260420T101526Z
DTSTART:20241030T180000Z
DTEND:20241030T200000Z
LOCATION:
SUMMARY:Leiterrunde
DESCRIPTION:Start: 18:30 Uhr\nhttps://dpsg-do-mitte.de/events/leiterrunde-8
 /
URL:https://dpsg-do-mitte.de/events/leiterrunde-8/
END:VEVENT
END:VCALENDAR