BEGIN:VCALENDAR
VERSION:2.0
PRODID:-//eventon.com NONSGML v1.0//EN
CALSCALE:GREGORIAN
METHOD:PUBLISH
BEGIN:VEVENT
UID:69e74c77a4cce
DTSTAMP:20260421T100751Z
DTSTART:20250412
DTEND:20250413
LOCATION:
SUMMARY:Osterferien
DESCRIPTION:Osterferien\nhttps://dpsg-do-mitte.de/events/osterferien-2/
URL:https://dpsg-do-mitte.de/events/osterferien-2/
END:VEVENT
END:VCALENDAR