BEGIN:VCALENDAR
VERSION:2.0
PRODID:-//eventon.com NONSGML v1.0//EN
CALSCALE:GREGORIAN
METHOD:PUBLISH
BEGIN:VEVENT
UID:69e74ed637cd6
DTSTAMP:20260421T101758Z
DTSTART:20260513
DTEND:20260514
LOCATION:
SUMMARY:Stammeslager zu Christi Himmelfahrt 2026 (ChiHiLa)
DESCRIPTION:Stammeslager zu Christi Himmelfahrt 2026 (ChiHiLa)\nhttps://dps
 g-do-mitte.de/events/stammeslager-zu-christi-himmelfahrt-2026-chihila/
URL:https://dpsg-do-mitte.de/events/stammeslager-zu-christi-himmelfahrt-2026-chihila/
END:VEVENT
END:VCALENDAR