BEGIN:VCALENDAR
VERSION:2.0
PRODID:-//eventon.com NONSGML v1.0//EN
CALSCALE:GREGORIAN
METHOD:PUBLISH
BEGIN:VEVENT
UID:69e74eadedcb3
DTSTAMP:20260421T101717Z
DTSTART:20221104
DTEND:20221105
LOCATION:
SUMMARY:BST
DESCRIPTION:BST\nhttps://dpsg-do-mitte.de/events/bst/
URL:https://dpsg-do-mitte.de/events/bst/
END:VEVENT
END:VCALENDAR